BEGIN:VCALENDAR
VERSION:2.0
PRODID:concerti//https://www.concerti.de
CALSCALE:GREGORIAN
BEGIN:VTIMEZONE
TZID:Europe/Berlin
X-LIC-LOCATION:Europe/Berlin
BEGIN:DAYLIGHT
TZOFFSETFROM:+0100
TZOFFSETTO:+0200
TZNAME:CEST
DTSTART:19700329T020000
RRULE:FREQ=YEARLY;BYMONTH=3;BYDAY=-1SU
END:DAYLIGHT
BEGIN:STANDARD
TZOFFSETFROM:+0200
TZOFFSETTO:+0100
TZNAME:CET
DTSTART:19701025T030000
RRULE:FREQ=YEARLY;BYMONTH=10;BYDAY=-1SU
END:STANDARD
END:VTIMEZONE
BEGIN:VEVENT
UID:5f85a26caa8539e7f0be58ffbab4f0b3
SUMMARY:Tipping Points
URL:https://www.concerti.de/termine/tipping-points-891129/
DTSTART;TZID=Europe/Berlin:20260628T160000
DTEND;TZID=Europe/Berlin:20260628T180000
DESCRIPTION:Interpreten: Ensemble Neue Musik der HfMDK\, Gregor A. Mayrhofer (Leitung)\, Harald Lesch (Rezitation) \nProgramm: Werke von Mayrhofer\, Messiaen & Liszt \nhttps://www.concerti.de/termine/tipping-points-891129/
LOCATION:Goethe Universität\, Frankfurt (Main)
END:VEVENT
END:VCALENDAR