BEGIN:VCALENDAR
VERSION:2.0
PRODID:concerti//https://www.concerti.de
CALSCALE:GREGORIAN
BEGIN:VTIMEZONE
TZID:Europe/Berlin
X-LIC-LOCATION:Europe/Berlin
BEGIN:DAYLIGHT
TZOFFSETFROM:+0100
TZOFFSETTO:+0200
TZNAME:CEST
DTSTART:19700329T020000
RRULE:FREQ=YEARLY;BYMONTH=3;BYDAY=-1SU
END:DAYLIGHT
BEGIN:STANDARD
TZOFFSETFROM:+0200
TZOFFSETTO:+0100
TZNAME:CET
DTSTART:19701025T030000
RRULE:FREQ=YEARLY;BYMONTH=10;BYDAY=-1SU
END:STANDARD
END:VTIMEZONE
BEGIN:VEVENT
UID:5580b481e5905c0a535c673a33f8902e
SUMMARY:Verdi: Aida
URL:https://www.concerti.de/termine/verdi-aida-731882/
DTSTART;TZID=Europe/Berlin:20260628T180000
DTEND;TZID=Europe/Berlin:20260628T200000
DESCRIPTION:Interpreten: Ilaria Alida Quilico (Aida)\, Emanuela Pascu (Amneris)\, Gabriele Mangione (Radamés)\, Sebastian Pilgrim (Ramfis)\, Filippo Bettoschi (Amonasro)\, Ainārs Rubiķis/Kiril Stankow (Leitung)\, Florian Lutz (Regie) \nhttps://www.concerti.de/termine/verdi-aida-731882/
LOCATION:Interim\, Kassel
END:VEVENT
END:VCALENDAR