BEGIN:VCALENDAR
VERSION:2.0
PRODID:concerti//https://www.concerti.de
CALSCALE:GREGORIAN
BEGIN:VTIMEZONE
TZID:Europe/Berlin
X-LIC-LOCATION:Europe/Berlin
BEGIN:DAYLIGHT
TZOFFSETFROM:+0100
TZOFFSETTO:+0200
TZNAME:CEST
DTSTART:19700329T020000
RRULE:FREQ=YEARLY;BYMONTH=3;BYDAY=-1SU
END:DAYLIGHT
BEGIN:STANDARD
TZOFFSETFROM:+0200
TZOFFSETTO:+0100
TZNAME:CET
DTSTART:19701025T030000
RRULE:FREQ=YEARLY;BYMONTH=10;BYDAY=-1SU
END:STANDARD
END:VTIMEZONE
BEGIN:VEVENT
UID:12a1914d55bbc62692b1f93460e85b41
SUMMARY:Guido Sant’Anna (Violine), Jacopo Giovannini (Klavier)
URL:https://www.concerti.de/termine/guido-santanna-violine-jacopo-giovannini-klavier-casals-forum-kronberg-891113/
DTSTART;TZID=Europe/Berlin:20260627T171500
DTEND;TZID=Europe/Berlin:20260627T191500
DESCRIPTION:Interpreten: Guido Sant’Anna (Violine)\, Jacopo Giovannini (Klavier) \nProgramm: Enescu: Impressions d\'Enfance op. 28\, Ravel: Tzigane\, Santoro: Violinsonate Nr. 4\, Kreisler: Zigeuner-Capriccio d-Moll \nhttps://www.concerti.de/termine/guido-santanna-violine-jacopo-giovannini-klavier-casals-forum-kronberg-891113/
LOCATION:Casals Forum Kronberg\, Beethovenpl. 1\, 61476 Kronberg (Taunus)
END:VEVENT
END:VCALENDAR