BEGIN:VCALENDAR
VERSION:2.0
PRODID:concerti//https://www.concerti.de
CALSCALE:GREGORIAN
BEGIN:VTIMEZONE
TZID:Europe/Berlin
X-LIC-LOCATION:Europe/Berlin
BEGIN:DAYLIGHT
TZOFFSETFROM:+0100
TZOFFSETTO:+0200
TZNAME:CEST
DTSTART:19700329T020000
RRULE:FREQ=YEARLY;BYMONTH=3;BYDAY=-1SU
END:DAYLIGHT
BEGIN:STANDARD
TZOFFSETFROM:+0200
TZOFFSETTO:+0100
TZNAME:CET
DTSTART:19701025T030000
RRULE:FREQ=YEARLY;BYMONTH=10;BYDAY=-1SU
END:STANDARD
END:VTIMEZONE
BEGIN:VEVENT
UID:df6dd3bf72e031be8307e1111585df1f
SUMMARY:Clara Yuna Friedensburg (Violoncello), Anna Naretto (Klavier)
URL:https://www.concerti.de/termine/clara-yuna-friedensburg-violoncello-anna-naretto-klavier-casals-forum-kronberg-891110/
DTSTART;TZID=Europe/Berlin:20260627T154500
DTEND;TZID=Europe/Berlin:20260627T174500
DESCRIPTION:Interpreten: Clara Yuna Friedensburg (Violoncello)\, Anna Naretto (Klavier) \nProgramm: Brahms: Cellosonate Nr. 2 F-Dur op. 99\, Hindemith: Cellosonate Nr. 3 op. 25\, C. Schumann: Drei Romanzen op. 22 \nhttps://www.concerti.de/termine/clara-yuna-friedensburg-violoncello-anna-naretto-klavier-casals-forum-kronberg-891110/
LOCATION:Casals Forum Kronberg\, Beethovenpl. 1\, 61476 Kronberg (Taunus)
END:VEVENT
END:VCALENDAR