BEGIN:VCALENDAR
VERSION:2.0
PRODID:concerti//https://www.concerti.de
CALSCALE:GREGORIAN
BEGIN:VTIMEZONE
TZID:Europe/Berlin
X-LIC-LOCATION:Europe/Berlin
BEGIN:DAYLIGHT
TZOFFSETFROM:+0100
TZOFFSETTO:+0200
TZNAME:CEST
DTSTART:19700329T020000
RRULE:FREQ=YEARLY;BYMONTH=3;BYDAY=-1SU
END:DAYLIGHT
BEGIN:STANDARD
TZOFFSETFROM:+0200
TZOFFSETTO:+0100
TZNAME:CET
DTSTART:19701025T030000
RRULE:FREQ=YEARLY;BYMONTH=10;BYDAY=-1SU
END:STANDARD
END:VTIMEZONE
BEGIN:VEVENT
UID:8c56bc711d1a0ce5e90fc2d99361394d
SUMMARY:Tenebrae Choir, Nigel Short (Leitung)
URL:https://www.concerti.de/termine/tenebrae-choir-nigel-short-leitung-891077/
DTSTART;TZID=Europe/Berlin:20260624T190000
DTEND;TZID=Europe/Berlin:20260624T210000
DESCRIPTION:Interpreten: Tenebrae Choir\, Nigel Short (Leitung) \nProgramm: Werke von Lasso\, Moore\, Shaw\, Marsh\, Gibbons\, Allegri\, Tavener\, Bruckner\, MacMillan & Holst \nhttps://www.concerti.de/termine/tenebrae-choir-nigel-short-leitung-891077/
LOCATION:Elisabethkirche\, Marburg
END:VEVENT
END:VCALENDAR