BEGIN:VCALENDAR
VERSION:2.0
PRODID:concerti//https://www.concerti.de
CALSCALE:GREGORIAN
BEGIN:VTIMEZONE
TZID:Europe/Berlin
X-LIC-LOCATION:Europe/Berlin
BEGIN:DAYLIGHT
TZOFFSETFROM:+0100
TZOFFSETTO:+0200
TZNAME:CEST
DTSTART:19700329T020000
RRULE:FREQ=YEARLY;BYMONTH=3;BYDAY=-1SU
END:DAYLIGHT
BEGIN:STANDARD
TZOFFSETFROM:+0200
TZOFFSETTO:+0100
TZNAME:CET
DTSTART:19701025T030000
RRULE:FREQ=YEARLY;BYMONTH=10;BYDAY=-1SU
END:STANDARD
END:VTIMEZONE
BEGIN:VEVENT
UID:a955b8dab4a8b0e025777225c7d667d0
SUMMARY:Verdi: La traviata
URL:https://www.concerti.de/termine/verdi-la-traviata-891061/
DTSTART;TZID=Europe/Berlin:20260620T193000
DTEND;TZID=Europe/Berlin:20260620T213000
DESCRIPTION:Interpreten: Musiktheaterensemble der Opera Classica \nhttps://www.concerti.de/termine/verdi-la-traviata-891061/
LOCATION:Burg\, Lindenfels
END:VEVENT
END:VCALENDAR