BEGIN:VCALENDAR
VERSION:2.0
PRODID:concerti//https://www.concerti.de
CALSCALE:GREGORIAN
BEGIN:VTIMEZONE
TZID:Europe/Berlin
X-LIC-LOCATION:Europe/Berlin
BEGIN:DAYLIGHT
TZOFFSETFROM:+0100
TZOFFSETTO:+0200
TZNAME:CEST
DTSTART:19700329T020000
RRULE:FREQ=YEARLY;BYMONTH=3;BYDAY=-1SU
END:DAYLIGHT
BEGIN:STANDARD
TZOFFSETFROM:+0200
TZOFFSETTO:+0100
TZNAME:CET
DTSTART:19701025T030000
RRULE:FREQ=YEARLY;BYMONTH=10;BYDAY=-1SU
END:STANDARD
END:VTIMEZONE
BEGIN:VEVENT
UID:5c78b4f7de1d992d6a56c4ecf9afc788
SUMMARY:Brassfource - Promenadenkonzert
URL:https://www.concerti.de/termine/brassfource-palmengarten-891034/
DTSTART;TZID=Europe/Berlin:20260614T153000
DTEND;TZID=Europe/Berlin:20260614T173000
DESCRIPTION:Interpreten: Brassfource \nhttps://www.concerti.de/termine/brassfource-palmengarten-891034/
LOCATION:Palmengarten\, Siesmayerstraße 61\, 60323 Frankfurt (Main)
END:VEVENT
END:VCALENDAR