BEGIN:VCALENDAR
VERSION:2.0
PRODID:concerti//https://www.concerti.de
CALSCALE:GREGORIAN
BEGIN:VTIMEZONE
TZID:Europe/Berlin
X-LIC-LOCATION:Europe/Berlin
BEGIN:DAYLIGHT
TZOFFSETFROM:+0100
TZOFFSETTO:+0200
TZNAME:CEST
DTSTART:19700329T020000
RRULE:FREQ=YEARLY;BYMONTH=3;BYDAY=-1SU
END:DAYLIGHT
BEGIN:STANDARD
TZOFFSETFROM:+0200
TZOFFSETTO:+0100
TZNAME:CET
DTSTART:19701025T030000
RRULE:FREQ=YEARLY;BYMONTH=10;BYDAY=-1SU
END:STANDARD
END:VTIMEZONE
BEGIN:VEVENT
UID:4cf928dbebe2edc8321ecac90d0f01f3
SUMMARY:Polnische Spuren im Barock - Barockfest Darmstadt
URL:https://www.concerti.de/termine/polnische-spuren-im-barock-staatstheater-darmstadt-890994/
DTSTART;TZID=Europe/Berlin:20260610T200000
DTEND;TZID=Europe/Berlin:20260610T220000
DESCRIPTION:Interpreten: Krzysztof Firlus (Viola)\, Marcin Świątkiewicz (Cembalo) \nProgramm: Werke von J. S. Bach\, Graun\, Telemann & Goldberg \nhttps://www.concerti.de/termine/polnische-spuren-im-barock-staatstheater-darmstadt-890994/
LOCATION:Staatstheater Darmstadt\, Georg-Büchner-Platz 1\, 64283 Darmstadt
END:VEVENT
END:VCALENDAR