BEGIN:VCALENDAR
VERSION:2.0
PRODID:concerti//https://www.concerti.de
CALSCALE:GREGORIAN
BEGIN:VTIMEZONE
TZID:Europe/Berlin
X-LIC-LOCATION:Europe/Berlin
BEGIN:DAYLIGHT
TZOFFSETFROM:+0100
TZOFFSETTO:+0200
TZNAME:CEST
DTSTART:19700329T020000
RRULE:FREQ=YEARLY;BYMONTH=3;BYDAY=-1SU
END:DAYLIGHT
BEGIN:STANDARD
TZOFFSETFROM:+0200
TZOFFSETTO:+0100
TZNAME:CET
DTSTART:19701025T030000
RRULE:FREQ=YEARLY;BYMONTH=10;BYDAY=-1SU
END:STANDARD
END:VTIMEZONE
BEGIN:VEVENT
UID:5ebdea15db06b6ae5b1e1af76ae28a5e
SUMMARY:Hans Christian Aavik (Violine) - Mittwochskonzert
URL:https://www.concerti.de/termine/hans-christian-aavik-violine-casals-forum-kronberg-890991/
DTSTART;TZID=Europe/Berlin:20260610T191500
DTEND;TZID=Europe/Berlin:20260610T211500
DESCRIPTION:Interpreten: Hans Christian Aavik (Violine) \nhttps://www.concerti.de/termine/hans-christian-aavik-violine-casals-forum-kronberg-890991/
LOCATION:Casals Forum Kronberg\, Beethovenpl. 1\, 61476 Kronberg (Taunus)
END:VEVENT
END:VCALENDAR