BEGIN:VCALENDAR
VERSION:2.0
PRODID:concerti//https://www.concerti.de
CALSCALE:GREGORIAN
BEGIN:VTIMEZONE
TZID:Europe/Berlin
X-LIC-LOCATION:Europe/Berlin
BEGIN:DAYLIGHT
TZOFFSETFROM:+0100
TZOFFSETTO:+0200
TZNAME:CEST
DTSTART:19700329T020000
RRULE:FREQ=YEARLY;BYMONTH=3;BYDAY=-1SU
END:DAYLIGHT
BEGIN:STANDARD
TZOFFSETFROM:+0200
TZOFFSETTO:+0100
TZNAME:CET
DTSTART:19701025T030000
RRULE:FREQ=YEARLY;BYMONTH=10;BYDAY=-1SU
END:STANDARD
END:VTIMEZONE
BEGIN:VEVENT
UID:e9a60ec531d257712f4d63f91930d45c
SUMMARY:Das kleine weiße Pony - Oper Oder Spree: Kinderoper
URL:https://www.concerti.de/termine/das-kleine-weisse-pony-890933/
DTSTART;TZID=Europe/Berlin:20260426T160000
DTEND;TZID=Europe/Berlin:20260426T180000
DESCRIPTION:Interpreten: Insa Bernds (Leitung)\, Lars Franke (Regie) \nhttps://www.concerti.de/termine/das-kleine-weisse-pony-890933/
LOCATION:Burg\, Beeskow
END:VEVENT
END:VCALENDAR