BEGIN:VCALENDAR
VERSION:2.0
PRODID:concerti//https://www.concerti.de
CALSCALE:GREGORIAN
BEGIN:VTIMEZONE
TZID:Europe/Berlin
X-LIC-LOCATION:Europe/Berlin
BEGIN:DAYLIGHT
TZOFFSETFROM:+0100
TZOFFSETTO:+0200
TZNAME:CEST
DTSTART:19700329T020000
RRULE:FREQ=YEARLY;BYMONTH=3;BYDAY=-1SU
END:DAYLIGHT
BEGIN:STANDARD
TZOFFSETFROM:+0200
TZOFFSETTO:+0100
TZNAME:CET
DTSTART:19701025T030000
RRULE:FREQ=YEARLY;BYMONTH=10;BYDAY=-1SU
END:STANDARD
END:VTIMEZONE
BEGIN:VEVENT
UID:396d58bc01f8fa3eb702ba669a824f73
SUMMARY:Joachim Karl Schäfer (Trompete, Kornett &amp; Moderation), Andreas Wenske (Orgel, Cembalo &amp; Klavier), Dresdner Bach-Solisten - Lindower Sommermusiken: Wandelkonzert
URL:https://www.concerti.de/termine/joachim-karl-schaefer-trompete-kornett-moderation-andreas-wenske-orgel-cembalo-klavier-dresdner-bach-solisten-890844/
DTSTART;TZID=Europe/Berlin:20260718T200000
DTEND;TZID=Europe/Berlin:20260718T220000
DESCRIPTION:Interpreten: Joachim Karl Schäfer (Trompete\, Kornett & Moderation)\, Andreas Wenske (Orgel\, Cembalo & Klavier)\, Dresdner Bach-Solisten \nProgramm: Werke von J. S. Bach\, Händel\, Verdi\, Arban u. a. \nhttps://www.concerti.de/termine/joachim-karl-schaefer-trompete-kornett-moderation-andreas-wenske-orgel-cembalo-klavier-dresdner-bach-solisten-890844/
LOCATION:Stadtkirche\, Lindow
END:VEVENT
END:VCALENDAR