BEGIN:VCALENDAR
VERSION:2.0
PRODID:concerti//https://www.concerti.de
CALSCALE:GREGORIAN
BEGIN:VTIMEZONE
TZID:Europe/Berlin
X-LIC-LOCATION:Europe/Berlin
BEGIN:DAYLIGHT
TZOFFSETFROM:+0100
TZOFFSETTO:+0200
TZNAME:CEST
DTSTART:19700329T020000
RRULE:FREQ=YEARLY;BYMONTH=3;BYDAY=-1SU
END:DAYLIGHT
BEGIN:STANDARD
TZOFFSETFROM:+0200
TZOFFSETTO:+0100
TZNAME:CET
DTSTART:19701025T030000
RRULE:FREQ=YEARLY;BYMONTH=10;BYDAY=-1SU
END:STANDARD
END:VTIMEZONE
BEGIN:VEVENT
UID:a38c199b7abeaf5f614554ba70258284
SUMMARY:Ventus Musicae - Lindower Sommermusiken
URL:https://www.concerti.de/termine/ventus-musicae-890841/
DTSTART;TZID=Europe/Berlin:20260711T200000
DTEND;TZID=Europe/Berlin:20260711T220000
DESCRIPTION:Interpreten: Peter Michel (Oboe)\, Natalie Miller (Orgel) \nProgramm: Werke von J. S. Bach\, Franck u. a. \nhttps://www.concerti.de/termine/ventus-musicae-890841/
LOCATION:Stadtkirche\, Lindow
END:VEVENT
END:VCALENDAR