BEGIN:VCALENDAR
VERSION:2.0
PRODID:concerti//https://www.concerti.de
CALSCALE:GREGORIAN
BEGIN:VTIMEZONE
TZID:Europe/Berlin
X-LIC-LOCATION:Europe/Berlin
BEGIN:DAYLIGHT
TZOFFSETFROM:+0100
TZOFFSETTO:+0200
TZNAME:CEST
DTSTART:19700329T020000
RRULE:FREQ=YEARLY;BYMONTH=3;BYDAY=-1SU
END:DAYLIGHT
BEGIN:STANDARD
TZOFFSETFROM:+0200
TZOFFSETTO:+0100
TZNAME:CET
DTSTART:19701025T030000
RRULE:FREQ=YEARLY;BYMONTH=10;BYDAY=-1SU
END:STANDARD
END:VTIMEZONE
BEGIN:VEVENT
UID:d6ea5ee9f865bd80f2140a023bf16866
SUMMARY:François Leleux (Oboe), Nicholas Deustch (Oboe), Karl-Heinz Steffens (Klarinette), Pablo Barragán (Klarinette), Daniele Damiano (Fagott), Hüma Beyza Ünal (Fagott), Christoph Korn (Horn), Alexandra Kehrle (Horn), Ben Goldscheider (Horn), Bar Zemach (Horn), Tatiana Samouil (Violine), Mohamed Hiber (Violine), Madeleine Carruzzo (Violine), Marc Bouchkov  (Violine), Lir Vaginsky (Violine), Joaquin Garcia Riquelme (Viola), Yulia Deyneka (Viola), Tim Park (Violoncello), Claudio Bohorquez (Violoncello), Nabil Shehata (Kontrabass), Daniel Barenboim (Leitung) - Intonations Festival
URL:https://www.concerti.de/termine/francois-leleux-oboe-nicholas-deustch-oboe-karl-heinz-steffens-klarinette-pablo-barragan-klarinette-daniele-damiano-fagott-huema-beyza-uenal-fagott-christoph-korn-horn-alexandra-k-890753/
DTSTART;TZID=Europe/Berlin:20260614T113000
DTEND;TZID=Europe/Berlin:20260614T133000
DESCRIPTION:Interpreten: François Leleux (Oboe)\, Nicholas Deustch (Oboe)\, Karl-Heinz Steffens (Klarinette)\, Pablo Barragán (Klarinette)\, Daniele Damiano (Fagott)\, Hüma Beyza Ünal (Fagott)\, Christoph Korn (Horn)\, Alexandra Kehrle (Horn)\, Ben Goldscheider (Horn)\, Bar Zemach (Horn)\, Tatiana Samouil (Violine)\, Mohamed Hiber (Violine)\, Madeleine Carruzzo (Violine)\, Marc Bouchkov  (Violine)\, Lir Vaginsky (Violine)\, Joaquin Garcia Riquelme (Viola)\, Yulia Deyneka (Viola)\, Tim Park (Violoncello)\, Claudio Bohorquez (Violoncello)\, Nabil Shehata (Kontrabass)\, Daniel Barenboim (Leitung) \nhttps://www.concerti.de/termine/francois-leleux-oboe-nicholas-deustch-oboe-karl-heinz-steffens-klarinette-pablo-barragan-klarinette-daniele-damiano-fagott-huema-beyza-uenal-fagott-christoph-korn-horn-alexandra-k-890753/
LOCATION:Kühlhaus\, Berlin
END:VEVENT
END:VCALENDAR