BEGIN:VCALENDAR
VERSION:2.0
PRODID:concerti//https://www.concerti.de
CALSCALE:GREGORIAN
BEGIN:VTIMEZONE
TZID:Europe/Berlin
X-LIC-LOCATION:Europe/Berlin
BEGIN:DAYLIGHT
TZOFFSETFROM:+0100
TZOFFSETTO:+0200
TZNAME:CEST
DTSTART:19700329T020000
RRULE:FREQ=YEARLY;BYMONTH=3;BYDAY=-1SU
END:DAYLIGHT
BEGIN:STANDARD
TZOFFSETFROM:+0200
TZOFFSETTO:+0100
TZNAME:CET
DTSTART:19701025T030000
RRULE:FREQ=YEARLY;BYMONTH=10;BYDAY=-1SU
END:STANDARD
END:VTIMEZONE
BEGIN:VEVENT
UID:8fe65ff72083905ac043e50aec991e23
SUMMARY:Thomas Bauer (Bariton), Dorothea Röschmann (Gesang), Emmanuel Pahud (Flöte), Karl-Heinz Steffens (Klarinette), Daniele Damiano (Fagott), Ben Goldscheider (Horn), Tatiana Samouil (Violine), Fedor Rudin (Violine), Kathrin Rabus (Violine), Boris Brovtsyn (Violine), Mohamed Hiber (Violine), Adrien La Marca (Viola), Yulia Deyneka (Viola), Andrei Ionita (Violoncello), Claudio Bohorquez (Violoncello),  Nabil Shehata (Kontrabass), Julia Hamos (Klavier), Yael Kareth (Klavier), Martha Argerich (Klavier), Elena Bashkirova (Klavier) - Intonations Festival
URL:https://www.concerti.de/termine/thomas-bauer-bariton-dorothea-roeschmann-gesang-emmanuel-pahud-floete-karl-heinz-steffens-klarinette-daniele-damiano-fagott-ben-goldscheider-horn-tatiana-samouil-violine-fedor-rud-890750/
DTSTART;TZID=Europe/Berlin:20260613T170000
DTEND;TZID=Europe/Berlin:20260613T190000
DESCRIPTION:Interpreten: Thomas Bauer (Bariton)\, Dorothea Röschmann (Gesang)\, Emmanuel Pahud (Flöte)\, Karl-Heinz Steffens (Klarinette)\, Daniele Damiano (Fagott)\, Ben Goldscheider (Horn)\, Tatiana Samouil (Violine)\, Fedor Rudin (Violine)\, Kathrin Rabus (Violine)\, Boris Brovtsyn (Violine)\, Mohamed Hiber (Violine)\, Adrien La Marca (Viola)\, Yulia Deyneka (Viola)\, Andrei Ionita (Violoncello)\, Claudio Bohorquez (Violoncello)\,  Nabil Shehata (Kontrabass)\, Julia Hamos (Klavier)\, Yael Kareth (Klavier)\, Martha Argerich (Klavier)\, Elena Bashkirova (Klavier) \nProgramm: Beethoven: Violinsonaten Nr. 8 G-Dur op. 30/3 & Nr. 3 Es-Dur op. 12/3\, Wagner: Wesendonck Lieder\, Brahms: Klarinettenquintett h-Moll op. 115 & 4 Ernste Gesänge\, Schubert: Oktett F-Dur D. 803 \nhttps://www.concerti.de/termine/thomas-bauer-bariton-dorothea-roeschmann-gesang-emmanuel-pahud-floete-karl-heinz-steffens-klarinette-daniele-damiano-fagott-ben-goldscheider-horn-tatiana-samouil-violine-fedor-rud-890750/
LOCATION:Kühlhaus\, Berlin
END:VEVENT
END:VCALENDAR