BEGIN:VCALENDAR
VERSION:2.0
PRODID:concerti//https://www.concerti.de
CALSCALE:GREGORIAN
BEGIN:VTIMEZONE
TZID:Europe/Berlin
X-LIC-LOCATION:Europe/Berlin
BEGIN:DAYLIGHT
TZOFFSETFROM:+0100
TZOFFSETTO:+0200
TZNAME:CEST
DTSTART:19700329T020000
RRULE:FREQ=YEARLY;BYMONTH=3;BYDAY=-1SU
END:DAYLIGHT
BEGIN:STANDARD
TZOFFSETFROM:+0200
TZOFFSETTO:+0100
TZNAME:CET
DTSTART:19701025T030000
RRULE:FREQ=YEARLY;BYMONTH=10;BYDAY=-1SU
END:STANDARD
END:VTIMEZONE
BEGIN:VEVENT
UID:4ee3cc70e2d5e9e2785af43c15ee4f05
SUMMARY:Thomas Bauer (Bariton), Emmanuel Pahud (Flöte), Pablo Barragán (Klarinette), Daniele Damiano (Fagott), Bar Zemach (Horn), Fedor Rudin (Violine), Astrig Siranossian (Violoncello), Julia Hamos (Klavier), Elena Bashkirova (Klavier), Nathalia Milstein (Klavier), Yael Kareth (Klavier), Martha Argerich (Klavier) - Intonations Festival
URL:https://www.concerti.de/termine/thomas-bauer-bariton-emmanuel-pahud-floete-pablo-barragan-klarinette-daniele-damiano-fagott-bar-zemach-horn-fedor-rudin-violine-astrig-siranossian-violoncello-julia-hamos-klavier-890747/
DTSTART;TZID=Europe/Berlin:20260612T193000
DTEND;TZID=Europe/Berlin:20260612T213000
DESCRIPTION:Interpreten: Thomas Bauer (Bariton)\, Emmanuel Pahud (Flöte)\, Pablo Barragán (Klarinette)\, Daniele Damiano (Fagott)\, Bar Zemach (Horn)\, Fedor Rudin (Violine)\, Astrig Siranossian (Violoncello)\, Julia Hamos (Klavier)\, Elena Bashkirova (Klavier)\, Nathalia Milstein (Klavier)\, Yael Kareth (Klavier)\, Martha Argerich (Klavier) \nProgramm: Rimsky-Korsakow: Quintette B-Dur\, Rachmaninow: Zwei Stücke für Klavier zu sechs Händen\, Schumann: Dichterliebe op. 48\, Debussy: Prélude L’aprés-midi d’un faune\, Messiaen: Le Quatuor pour la fin du Temps \nhttps://www.concerti.de/termine/thomas-bauer-bariton-emmanuel-pahud-floete-pablo-barragan-klarinette-daniele-damiano-fagott-bar-zemach-horn-fedor-rudin-violine-astrig-siranossian-violoncello-julia-hamos-klavier-890747/
LOCATION:Kühlhaus\, Berlin
END:VEVENT
END:VCALENDAR