BEGIN:VCALENDAR
VERSION:2.0
PRODID:concerti//https://www.concerti.de
CALSCALE:GREGORIAN
BEGIN:VTIMEZONE
TZID:Europe/Berlin
X-LIC-LOCATION:Europe/Berlin
BEGIN:DAYLIGHT
TZOFFSETFROM:+0100
TZOFFSETTO:+0200
TZNAME:CEST
DTSTART:19700329T020000
RRULE:FREQ=YEARLY;BYMONTH=3;BYDAY=-1SU
END:DAYLIGHT
BEGIN:STANDARD
TZOFFSETFROM:+0200
TZOFFSETTO:+0100
TZNAME:CET
DTSTART:19701025T030000
RRULE:FREQ=YEARLY;BYMONTH=10;BYDAY=-1SU
END:STANDARD
END:VTIMEZONE
BEGIN:VEVENT
UID:0f13b15a882fd82572cf8b7d6c123fe9
SUMMARY:Sergey Tanin (Klavier), Zürcher Kammerphilharmonie, Dominic Limburg (Leitung)
URL:https://www.concerti.de/termine/sergey-tanin-klavier-zuercher-kammerphilharmonie-dominic-limburg-leitung-tonhalle-zuerich-890729/
DTSTART;TZID=Europe/Berlin:20260602T193000
DTEND;TZID=Europe/Berlin:20260602T213000
DESCRIPTION:Interpreten: Sergey Tanin (Klavier)\, Zürcher Kammerphilharmonie\, Dominic Limburg (Leitung) \nProgramm: Stüssi: Suite en miniature G-Dur\, Schumann: Ouvertüre\, Scherzo & Finale E-Dur op. 52\, Brahms Klavierkonzert Nr. 2 B-Dur op. 83 \nhttps://www.concerti.de/termine/sergey-tanin-klavier-zuercher-kammerphilharmonie-dominic-limburg-leitung-tonhalle-zuerich-890729/
LOCATION:Tonhalle Zürich\, Claridenstrasse 7\, 8002 Zürich
END:VEVENT
END:VCALENDAR