BEGIN:VCALENDAR
VERSION:2.0
PRODID:concerti//https://www.concerti.de
CALSCALE:GREGORIAN
BEGIN:VTIMEZONE
TZID:Europe/Berlin
X-LIC-LOCATION:Europe/Berlin
BEGIN:DAYLIGHT
TZOFFSETFROM:+0100
TZOFFSETTO:+0200
TZNAME:CEST
DTSTART:19700329T020000
RRULE:FREQ=YEARLY;BYMONTH=3;BYDAY=-1SU
END:DAYLIGHT
BEGIN:STANDARD
TZOFFSETFROM:+0200
TZOFFSETTO:+0100
TZNAME:CET
DTSTART:19701025T030000
RRULE:FREQ=YEARLY;BYMONTH=10;BYDAY=-1SU
END:STANDARD
END:VTIMEZONE
BEGIN:VEVENT
UID:c5d5e47a8870a42664e4a553cc1ef9b2
SUMMARY:For Swinging Dancers
URL:https://www.concerti.de/termine/for-swinging-dancers-kkl-kultur-und-kongresszentrum-luzern-890720/
DTSTART;TZID=Europe/Berlin:20260529T193000
DTEND;TZID=Europe/Berlin:20260529T213000
DESCRIPTION:Interpreten: Glenn Miller Orchestra\, Uli Plettendorff (Leitung) \nhttps://www.concerti.de/termine/for-swinging-dancers-kkl-kultur-und-kongresszentrum-luzern-890720/
LOCATION:KKL Kultur- und Kongresszentrum Luzern\, Europaplatz 1\, 6005 Luzern
END:VEVENT
END:VCALENDAR