BEGIN:VCALENDAR
VERSION:2.0
PRODID:concerti//https://www.concerti.de
CALSCALE:GREGORIAN
BEGIN:VTIMEZONE
TZID:Europe/Berlin
X-LIC-LOCATION:Europe/Berlin
BEGIN:DAYLIGHT
TZOFFSETFROM:+0100
TZOFFSETTO:+0200
TZNAME:CEST
DTSTART:19700329T020000
RRULE:FREQ=YEARLY;BYMONTH=3;BYDAY=-1SU
END:DAYLIGHT
BEGIN:STANDARD
TZOFFSETFROM:+0200
TZOFFSETTO:+0100
TZNAME:CET
DTSTART:19701025T030000
RRULE:FREQ=YEARLY;BYMONTH=10;BYDAY=-1SU
END:STANDARD
END:VTIMEZONE
BEGIN:VEVENT
UID:1b85a6b09f29cdfa0de22f2d15413ac4
SUMMARY:Laurin Caprez (Marimbaphon), Blasorchester Stadtmusik Luzern, Hervé Grélat (Leitung)
URL:https://www.concerti.de/termine/laurin-caprez-marimbaphon-blasorchester-stadtmusik-luzern-herve-grelat-leitung-kkl-kultur-und-kongresszentrum-luzern-890712/
DTSTART;TZID=Europe/Berlin:20260510T170000
DTEND;TZID=Europe/Berlin:20260510T190000
DESCRIPTION:Interpreten: Laurin Caprez (Marimbaphon)\, Blasorchester Stadtmusik Luzern\, Hervé Grélat (Leitung) \nProgramm: Pitman: Allied Résilience\, Abe: Prism Rhapsody\, Cesarini: Quadrants des rêves – Poème choréographique op. 63\, Mackey: The isle is full of noises \nhttps://www.concerti.de/termine/laurin-caprez-marimbaphon-blasorchester-stadtmusik-luzern-herve-grelat-leitung-kkl-kultur-und-kongresszentrum-luzern-890712/
LOCATION:KKL Kultur- und Kongresszentrum Luzern\, Europaplatz 1\, 6005 Luzern
END:VEVENT
END:VCALENDAR