BEGIN:VCALENDAR
VERSION:2.0
PRODID:concerti//https://www.concerti.de
CALSCALE:GREGORIAN
BEGIN:VTIMEZONE
TZID:Europe/Berlin
X-LIC-LOCATION:Europe/Berlin
BEGIN:DAYLIGHT
TZOFFSETFROM:+0100
TZOFFSETTO:+0200
TZNAME:CEST
DTSTART:19700329T020000
RRULE:FREQ=YEARLY;BYMONTH=3;BYDAY=-1SU
END:DAYLIGHT
BEGIN:STANDARD
TZOFFSETFROM:+0200
TZOFFSETTO:+0100
TZNAME:CET
DTSTART:19701025T030000
RRULE:FREQ=YEARLY;BYMONTH=10;BYDAY=-1SU
END:STANDARD
END:VTIMEZONE
BEGIN:VEVENT
UID:81de3b1171a807f1c5f23fd4c01d1932
SUMMARY:Game ON! – Symphonic Game Music in Concert
URL:https://www.concerti.de/termine/game-on-symphonic-game-music-in-concert-kkl-kultur-und-kongresszentrum-luzern-890709/
DTSTART;TZID=Europe/Berlin:20260508T193000
DTEND;TZID=Europe/Berlin:20260508T213000
DESCRIPTION:Interpreten: City Light Symphony Orchestra\, Incantata\, Kevin Griffiths (Leitung) \nhttps://www.concerti.de/termine/game-on-symphonic-game-music-in-concert-kkl-kultur-und-kongresszentrum-luzern-890709/
LOCATION:KKL Kultur- und Kongresszentrum Luzern\, Europaplatz 1\, 6005 Luzern
END:VEVENT
END:VCALENDAR