BEGIN:VCALENDAR
VERSION:2.0
PRODID:concerti//https://www.concerti.de
CALSCALE:GREGORIAN
BEGIN:VTIMEZONE
TZID:Europe/Berlin
X-LIC-LOCATION:Europe/Berlin
BEGIN:DAYLIGHT
TZOFFSETFROM:+0100
TZOFFSETTO:+0200
TZNAME:CEST
DTSTART:19700329T020000
RRULE:FREQ=YEARLY;BYMONTH=3;BYDAY=-1SU
END:DAYLIGHT
BEGIN:STANDARD
TZOFFSETFROM:+0200
TZOFFSETTO:+0100
TZNAME:CET
DTSTART:19701025T030000
RRULE:FREQ=YEARLY;BYMONTH=10;BYDAY=-1SU
END:STANDARD
END:VTIMEZONE
BEGIN:VEVENT
UID:cb0b9d5f2110bcd8ca88cfa81d71d299
SUMMARY:Anastasia Dziadevych (Violine), Kristina Marušić (Violine), Remea Friedrich (Viola), Nicolas Gencyilmaz (Violoncello) - Surprise mit Studierenden der ZHdK
URL:https://www.concerti.de/termine/anastasia-dziadevych-violine-kristina-marusic-violine-remea-friedrich-viola-nicolas-gencyilmaz-violoncello-tonhalle-zuerich-890706/
DTSTART;TZID=Europe/Berlin:20260508T183000
DTEND;TZID=Europe/Berlin:20260508T203000
DESCRIPTION:Interpreten: Anastasia Dziadevych (Violine)\, Kristina Marušić (Violine)\, Remea Friedrich (Viola)\, Nicolas Gencyilmaz (Violoncello) \nProgramm: Schoeck: Streichquartett Nr. 1 D-Dur op. 23 \nhttps://www.concerti.de/termine/anastasia-dziadevych-violine-kristina-marusic-violine-remea-friedrich-viola-nicolas-gencyilmaz-violoncello-tonhalle-zuerich-890706/
LOCATION:Tonhalle Zürich\, Claridenstrasse 7\, 8002 Zürich
END:VEVENT
END:VCALENDAR