BEGIN:VCALENDAR
VERSION:2.0
PRODID:concerti//https://www.concerti.de
CALSCALE:GREGORIAN
BEGIN:VTIMEZONE
TZID:Europe/Berlin
X-LIC-LOCATION:Europe/Berlin
BEGIN:DAYLIGHT
TZOFFSETFROM:+0100
TZOFFSETTO:+0200
TZNAME:CEST
DTSTART:19700329T020000
RRULE:FREQ=YEARLY;BYMONTH=3;BYDAY=-1SU
END:DAYLIGHT
BEGIN:STANDARD
TZOFFSETFROM:+0200
TZOFFSETTO:+0100
TZNAME:CET
DTSTART:19701025T030000
RRULE:FREQ=YEARLY;BYMONTH=10;BYDAY=-1SU
END:STANDARD
END:VTIMEZONE
BEGIN:VEVENT
UID:084c68b4f226193739d1debb916ae59a
SUMMARY:Mutants in Music - Orbit Festival Köln
URL:https://www.concerti.de/termine/mutants-in-music-890364/
DTSTART;TZID=Europe/Berlin:20260425T210000
DTEND;TZID=Europe/Berlin:20260425T230000
DESCRIPTION:Interpreten: Ensemble uBu \nhttps://www.concerti.de/termine/mutants-in-music-890364/
LOCATION:Studio Musikfabrik\, Köln
END:VEVENT
END:VCALENDAR