BEGIN:VCALENDAR
VERSION:2.0
PRODID:concerti//https://www.concerti.de
CALSCALE:GREGORIAN
BEGIN:VTIMEZONE
TZID:Europe/Berlin
X-LIC-LOCATION:Europe/Berlin
BEGIN:DAYLIGHT
TZOFFSETFROM:+0100
TZOFFSETTO:+0200
TZNAME:CEST
DTSTART:19700329T020000
RRULE:FREQ=YEARLY;BYMONTH=3;BYDAY=-1SU
END:DAYLIGHT
BEGIN:STANDARD
TZOFFSETFROM:+0200
TZOFFSETTO:+0100
TZNAME:CET
DTSTART:19701025T030000
RRULE:FREQ=YEARLY;BYMONTH=10;BYDAY=-1SU
END:STANDARD
END:VTIMEZONE
BEGIN:VEVENT
UID:5eecb96a9286163717cf63d20fc86e43
SUMMARY:Njord Karason Fossnes (Viola), Philharmonisches Orchester Regensburg, Stefan Veselka (Leitung)
URL:https://www.concerti.de/termine/njord-karason-fossnes-viola-philharmonisches-orchester-regensburg-stefan-veselka-leitung-neuhaussaal-889972/
DTSTART;TZID=Europe/Berlin:20261005T193000
DTEND;TZID=Europe/Berlin:20261005T213000
DESCRIPTION:Interpreten: Njord Karason Fossnes (Viola)\, Philharmonisches Orchester Regensburg\, Stefan Veselka (Leitung) \nProgramm: J. S. Bach/Webern: Musikalisches Opfer (Auszug)\, Kancheli: Abii ne viderem\, Mendelssohn: Sinfonie Nr. 5 d-Moll op. 107 „Reformation“ \nhttps://www.concerti.de/termine/njord-karason-fossnes-viola-philharmonisches-orchester-regensburg-stefan-veselka-leitung-neuhaussaal-889972/
LOCATION:Neuhaussaal\, Bismarckplatz 7\, 93047 Regensburg
END:VEVENT
END:VCALENDAR