BEGIN:VCALENDAR
VERSION:2.0
PRODID:concerti//https://www.concerti.de
CALSCALE:GREGORIAN
BEGIN:VTIMEZONE
TZID:Europe/Berlin
X-LIC-LOCATION:Europe/Berlin
BEGIN:DAYLIGHT
TZOFFSETFROM:+0100
TZOFFSETTO:+0200
TZNAME:CEST
DTSTART:19700329T020000
RRULE:FREQ=YEARLY;BYMONTH=3;BYDAY=-1SU
END:DAYLIGHT
BEGIN:STANDARD
TZOFFSETFROM:+0200
TZOFFSETTO:+0100
TZNAME:CET
DTSTART:19701025T030000
RRULE:FREQ=YEARLY;BYMONTH=10;BYDAY=-1SU
END:STANDARD
END:VTIMEZONE
BEGIN:VEVENT
UID:acb4e52960f0e91b2f1b9d94033f790a
SUMMARY:Szymanowski: Król Roger
URL:https://www.concerti.de/termine/szymanowski-krol-roger-theater-regensburg-889957/
DTSTART;TZID=Europe/Berlin:20270122T193000
DTEND;TZID=Europe/Berlin:20270122T213000
DESCRIPTION:Interpreten: Sebastian Ritschel (Regie) \nhttps://www.concerti.de/termine/szymanowski-krol-roger-theater-regensburg-889957/
LOCATION:Theater Regensburg\, Bismarckpl. 7\, 93047 Regensburg
END:VEVENT
END:VCALENDAR