BEGIN:VCALENDAR
VERSION:2.0
PRODID:concerti//https://www.concerti.de
CALSCALE:GREGORIAN
BEGIN:VTIMEZONE
TZID:Europe/Berlin
X-LIC-LOCATION:Europe/Berlin
BEGIN:DAYLIGHT
TZOFFSETFROM:+0100
TZOFFSETTO:+0200
TZNAME:CEST
DTSTART:19700329T020000
RRULE:FREQ=YEARLY;BYMONTH=3;BYDAY=-1SU
END:DAYLIGHT
BEGIN:STANDARD
TZOFFSETFROM:+0200
TZOFFSETTO:+0100
TZNAME:CET
DTSTART:19701025T030000
RRULE:FREQ=YEARLY;BYMONTH=10;BYDAY=-1SU
END:STANDARD
END:VTIMEZONE
BEGIN:VEVENT
UID:75e43a5079b25ca16bc466f4945835ff
SUMMARY:Mao Fujita (Klavier), Münchner Philharmoniker, Lahav Shani (Leitung)
URL:https://www.concerti.de/termine/mao-fujita-klavier-muenchner-philharmoniker-lahav-shani-leitung-isarphilharmonie-889945/
DTSTART;TZID=Europe/Berlin:20270616T193000
DTEND;TZID=Europe/Berlin:20270616T213000
DESCRIPTION:Interpreten: Mao Fujita (Klavier)\, Münchner Philharmoniker\, Lahav Shani (Leitung) \nProgramm: Beethoven: Klavierkonzert Nr. 5 Es-Dur op. 73 & Sinfonie Nr. 3 Es-Dur op. 55 „Eroica“ \nhttps://www.concerti.de/termine/mao-fujita-klavier-muenchner-philharmoniker-lahav-shani-leitung-isarphilharmonie-889945/
LOCATION:Isarphilharmonie\, Hans-Preißinger-Straße 8\, 81379 München
END:VEVENT
END:VCALENDAR