BEGIN:VCALENDAR
VERSION:2.0
PRODID:concerti//https://www.concerti.de
CALSCALE:GREGORIAN
BEGIN:VTIMEZONE
TZID:Europe/Berlin
X-LIC-LOCATION:Europe/Berlin
BEGIN:DAYLIGHT
TZOFFSETFROM:+0100
TZOFFSETTO:+0200
TZNAME:CEST
DTSTART:19700329T020000
RRULE:FREQ=YEARLY;BYMONTH=3;BYDAY=-1SU
END:DAYLIGHT
BEGIN:STANDARD
TZOFFSETFROM:+0200
TZOFFSETTO:+0100
TZNAME:CET
DTSTART:19701025T030000
RRULE:FREQ=YEARLY;BYMONTH=10;BYDAY=-1SU
END:STANDARD
END:VTIMEZONE
BEGIN:VEVENT
UID:c5de7f8526f1bb9ebc68fa17735edd2f
SUMMARY:Yulianna Avdeeva (Klavier), Münchner Philharmoniker, Marie Jacquot (Leitung), Malte Arkona (Moderation) - Jugendkonzert
URL:https://www.concerti.de/termine/yulianna-avdeeva-klavier-muenchner-philharmoniker-marie-jacquot-leitung-malte-arkona-moderation-isarphilharmonie-889933/
DTSTART;TZID=Europe/Berlin:20270602T183000
DTEND;TZID=Europe/Berlin:20270602T203000
DESCRIPTION:Interpreten: Yulianna Avdeeva (Klavier)\, Münchner Philharmoniker\, Marie Jacquot (Leitung)\, Malte Arkona (Moderation) \nProgramm: Chopin: Klavierkonzert Nr. 2 f-Moll op. 21\, Beach: Sinfonie e-Moll op. 32 \nhttps://www.concerti.de/termine/yulianna-avdeeva-klavier-muenchner-philharmoniker-marie-jacquot-leitung-malte-arkona-moderation-isarphilharmonie-889933/
LOCATION:Isarphilharmonie\, Hans-Preißinger-Straße 8\, 81379 München
END:VEVENT
END:VCALENDAR