BEGIN:VCALENDAR
VERSION:2.0
PRODID:concerti//https://www.concerti.de
CALSCALE:GREGORIAN
BEGIN:VTIMEZONE
TZID:Europe/Berlin
X-LIC-LOCATION:Europe/Berlin
BEGIN:DAYLIGHT
TZOFFSETFROM:+0100
TZOFFSETTO:+0200
TZNAME:CEST
DTSTART:19700329T020000
RRULE:FREQ=YEARLY;BYMONTH=3;BYDAY=-1SU
END:DAYLIGHT
BEGIN:STANDARD
TZOFFSETFROM:+0200
TZOFFSETTO:+0100
TZNAME:CET
DTSTART:19701025T030000
RRULE:FREQ=YEARLY;BYMONTH=10;BYDAY=-1SU
END:STANDARD
END:VTIMEZONE
BEGIN:VEVENT
UID:0c21472130bf850b0f787be82ed6be7f
SUMMARY:Chen Reiss (Sopran), Münchner Philharmoniker, Lahav Shani (Leitung)
URL:https://www.concerti.de/termine/chen-reiss-sopran-muenchner-philharmoniker-lahav-shani-leitung-isarphilharmonie-889922/
DTSTART;TZID=Europe/Berlin:20270506T190000
DTEND;TZID=Europe/Berlin:20270506T210000
DESCRIPTION:Interpreten: Chen Reiss (Sopran)\, Münchner Philharmoniker\, Lahav Shani (Leitung) \nProgramm: Ben-Haim: Concerto grosso & Pan\, Mahler: Sinfonie Nr. 4 G-Dur \nhttps://www.concerti.de/termine/chen-reiss-sopran-muenchner-philharmoniker-lahav-shani-leitung-isarphilharmonie-889922/
LOCATION:Isarphilharmonie\, Hans-Preißinger-Straße 8\, 81379 München
END:VEVENT
END:VCALENDAR