BEGIN:VCALENDAR
VERSION:2.0
PRODID:concerti//https://www.concerti.de
CALSCALE:GREGORIAN
BEGIN:VTIMEZONE
TZID:Europe/Berlin
X-LIC-LOCATION:Europe/Berlin
BEGIN:DAYLIGHT
TZOFFSETFROM:+0100
TZOFFSETTO:+0200
TZNAME:CEST
DTSTART:19700329T020000
RRULE:FREQ=YEARLY;BYMONTH=3;BYDAY=-1SU
END:DAYLIGHT
BEGIN:STANDARD
TZOFFSETFROM:+0200
TZOFFSETTO:+0100
TZNAME:CET
DTSTART:19701025T030000
RRULE:FREQ=YEARLY;BYMONTH=10;BYDAY=-1SU
END:STANDARD
END:VTIMEZONE
BEGIN:VEVENT
UID:b16cac4b00f5f6e24335a7ad3edac82a
SUMMARY:Kats-Chernin: Zirkuszauber im Orchester
URL:https://www.concerti.de/termine/kats-chernin-zirkuszauber-im-orchester-isarphilharmonie-889918/
DTSTART;TZID=Europe/Berlin:20270426T100000
DTEND;TZID=Europe/Berlin:20270426T120000
DESCRIPTION:Interpreten: Andreas Kowalewitz (Leitung)\, Stephan Witzlinger (Regie) \nhttps://www.concerti.de/termine/kats-chernin-zirkuszauber-im-orchester-isarphilharmonie-889918/
LOCATION:Isarphilharmonie\, Hans-Preißinger-Straße 8\, 81379 München
END:VEVENT
END:VCALENDAR