BEGIN:VCALENDAR
VERSION:2.0
PRODID:concerti//https://www.concerti.de
CALSCALE:GREGORIAN
BEGIN:VTIMEZONE
TZID:Europe/Berlin
X-LIC-LOCATION:Europe/Berlin
BEGIN:DAYLIGHT
TZOFFSETFROM:+0100
TZOFFSETTO:+0200
TZNAME:CEST
DTSTART:19700329T020000
RRULE:FREQ=YEARLY;BYMONTH=3;BYDAY=-1SU
END:DAYLIGHT
BEGIN:STANDARD
TZOFFSETFROM:+0200
TZOFFSETTO:+0100
TZNAME:CET
DTSTART:19701025T030000
RRULE:FREQ=YEARLY;BYMONTH=10;BYDAY=-1SU
END:STANDARD
END:VTIMEZONE
BEGIN:VEVENT
UID:68b587d0d194bd9c150607779ded21cb
SUMMARY:Elīna Garanča (Mezzosopran), Christian Van Horn (Bariton), Münchner Philharmoniker, Lahav Shani (Leitung)
URL:https://www.concerti.de/termine/elina-garanca-mezzosopran-christian-van-horn-bariton-muenchner-philharmoniker-lahav-shani-leitung-isarphilharmonie-889911/
DTSTART;TZID=Europe/Berlin:20270416T193000
DTEND;TZID=Europe/Berlin:20270416T213000
DESCRIPTION:Interpreten: Elīna Garanča (Mezzosopran)\, Christian Van Horn (Bariton)\, Münchner Philharmoniker\, Lahav Shani (Leitung) \nProgramm: Fauré: Pelléas et Mélisande op. 80\, Bartók: Herzog Blaubarts Burg op. 11 \nhttps://www.concerti.de/termine/elina-garanca-mezzosopran-christian-van-horn-bariton-muenchner-philharmoniker-lahav-shani-leitung-isarphilharmonie-889911/
LOCATION:Isarphilharmonie\, Hans-Preißinger-Straße 8\, 81379 München
END:VEVENT
END:VCALENDAR