BEGIN:VCALENDAR
VERSION:2.0
PRODID:concerti//https://www.concerti.de
CALSCALE:GREGORIAN
BEGIN:VTIMEZONE
TZID:Europe/Berlin
X-LIC-LOCATION:Europe/Berlin
BEGIN:DAYLIGHT
TZOFFSETFROM:+0100
TZOFFSETTO:+0200
TZNAME:CEST
DTSTART:19700329T020000
RRULE:FREQ=YEARLY;BYMONTH=3;BYDAY=-1SU
END:DAYLIGHT
BEGIN:STANDARD
TZOFFSETFROM:+0200
TZOFFSETTO:+0100
TZNAME:CET
DTSTART:19701025T030000
RRULE:FREQ=YEARLY;BYMONTH=10;BYDAY=-1SU
END:STANDARD
END:VTIMEZONE
BEGIN:VEVENT
UID:e8f290ccc4ae2efdc97fdbd9cdf02856
SUMMARY:Benjamin Bruns (Tenor), Philharmonischer Chor München, Münchner Philharmoniker, Fabio Luisi (Leitung)
URL:https://www.concerti.de/termine/benjamin-bruns-tenor-philharmonischer-chor-muenchen-muenchner-philharmoniker-fabio-luisi-leitung-isarphilharmonie-889894/
DTSTART;TZID=Europe/Berlin:20270312T193000
DTEND;TZID=Europe/Berlin:20270312T213000
DESCRIPTION:Interpreten: Benjamin Bruns (Tenor)\, Philharmonischer Chor München\, Münchner Philharmoniker\, Fabio Luisi (Leitung) \nProgramm: Martin: Konzert\, Liszt: Eine Faust-Sinfonie \nhttps://www.concerti.de/termine/benjamin-bruns-tenor-philharmonischer-chor-muenchen-muenchner-philharmoniker-fabio-luisi-leitung-isarphilharmonie-889894/
LOCATION:Isarphilharmonie\, Hans-Preißinger-Straße 8\, 81379 München
END:VEVENT
END:VCALENDAR