BEGIN:VCALENDAR
VERSION:2.0
PRODID:concerti//https://www.concerti.de
CALSCALE:GREGORIAN
BEGIN:VTIMEZONE
TZID:Europe/Berlin
X-LIC-LOCATION:Europe/Berlin
BEGIN:DAYLIGHT
TZOFFSETFROM:+0100
TZOFFSETTO:+0200
TZNAME:CEST
DTSTART:19700329T020000
RRULE:FREQ=YEARLY;BYMONTH=3;BYDAY=-1SU
END:DAYLIGHT
BEGIN:STANDARD
TZOFFSETFROM:+0200
TZOFFSETTO:+0100
TZNAME:CET
DTSTART:19701025T030000
RRULE:FREQ=YEARLY;BYMONTH=10;BYDAY=-1SU
END:STANDARD
END:VTIMEZONE
BEGIN:VEVENT
UID:377b1e472522019471bbccc6577b2056
SUMMARY:Florentine Lenz (Violine), Asami Yamada (Violine), Julie Risbet (Viola), Sven Faulian (Violoncello)
URL:https://www.concerti.de/termine/florentine-lenz-violine-asami-yamada-violine-julie-risbet-viola-sven-faulian-violoncello-muenchner-kuenstlerhaus-889884/
DTSTART;TZID=Europe/Berlin:20270228T110000
DTEND;TZID=Europe/Berlin:20270228T130000
DESCRIPTION:Interpreten: Florentine Lenz (Violine)\, Asami Yamada (Violine)\, Julie Risbet (Viola)\, Sven Faulian (Violoncello) \nProgramm: Bree: Streichquartett Nr. 3 d-Moll\, Glass: Streichquartett Nr. 2\, Mendelssohn: Streichquartett Nr. 2 a-Moll op. 13 \nhttps://www.concerti.de/termine/florentine-lenz-violine-asami-yamada-violine-julie-risbet-viola-sven-faulian-violoncello-muenchner-kuenstlerhaus-889884/
LOCATION:Münchner Künstlerhaus\, Lenbachplatz 8\, 80333 München
END:VEVENT
END:VCALENDAR