BEGIN:VCALENDAR
VERSION:2.0
PRODID:concerti//https://www.concerti.de
CALSCALE:GREGORIAN
BEGIN:VTIMEZONE
TZID:Europe/Berlin
X-LIC-LOCATION:Europe/Berlin
BEGIN:DAYLIGHT
TZOFFSETFROM:+0100
TZOFFSETTO:+0200
TZNAME:CEST
DTSTART:19700329T020000
RRULE:FREQ=YEARLY;BYMONTH=3;BYDAY=-1SU
END:DAYLIGHT
BEGIN:STANDARD
TZOFFSETFROM:+0200
TZOFFSETTO:+0100
TZNAME:CET
DTSTART:19701025T030000
RRULE:FREQ=YEARLY;BYMONTH=10;BYDAY=-1SU
END:STANDARD
END:VTIMEZONE
BEGIN:VEVENT
UID:965ba949231f65322c5814bf312a460d
SUMMARY:Anne-Sophie Mutter (Violine), Münchner Philharmoniker, Lahav Shani (Leitung)
URL:https://www.concerti.de/termine/anne-sophie-mutter-violine-muenchner-philharmoniker-lahav-shani-leitung-isarphilharmonie-889880/
DTSTART;TZID=Europe/Berlin:20270204T193000
DTEND;TZID=Europe/Berlin:20270204T213000
DESCRIPTION:Interpreten: Anne-Sophie Mutter (Violine)\, Münchner Philharmoniker\, Lahav Shani (Leitung) \nProgramm: Brahms: Violinkonzert D-Dur op. 77\, Schubert: Sinfonie Nr. 8 C-Dur D 944 „Große“ \nhttps://www.concerti.de/termine/anne-sophie-mutter-violine-muenchner-philharmoniker-lahav-shani-leitung-isarphilharmonie-889880/
LOCATION:Isarphilharmonie\, Hans-Preißinger-Straße 8\, 81379 München
END:VEVENT
END:VCALENDAR