BEGIN:VCALENDAR
VERSION:2.0
PRODID:concerti//https://www.concerti.de
CALSCALE:GREGORIAN
BEGIN:VTIMEZONE
TZID:Europe/Berlin
X-LIC-LOCATION:Europe/Berlin
BEGIN:DAYLIGHT
TZOFFSETFROM:+0100
TZOFFSETTO:+0200
TZNAME:CEST
DTSTART:19700329T020000
RRULE:FREQ=YEARLY;BYMONTH=3;BYDAY=-1SU
END:DAYLIGHT
BEGIN:STANDARD
TZOFFSETFROM:+0200
TZOFFSETTO:+0100
TZNAME:CET
DTSTART:19701025T030000
RRULE:FREQ=YEARLY;BYMONTH=10;BYDAY=-1SU
END:STANDARD
END:VTIMEZONE
BEGIN:VEVENT
UID:92e9110d5bdedcabe9d0c716be24c351
SUMMARY:Christina Landshamer (Sopran), Catriona Morison (Mezzosopran), Patrick Grahl (Tenor), Franz-Josef Selig (Bass), Philharmonischer Chor München, Münchner Philharmoniker, Manfred Honeck (Leitung)
URL:https://www.concerti.de/termine/christina-landshamer-sopran-catriona-morison-mezzosopran-patrick-grahl-tenor-franz-josef-selig-bass-philharmonischer-chor-muenchen-muenchner-philharmoniker-manfred-honeck-leitung-isarp-889875/
DTSTART;TZID=Europe/Berlin:20270128T193000
DTEND;TZID=Europe/Berlin:20270128T213000
DESCRIPTION:Interpreten: Christina Landshamer (Sopran)\, Catriona Morison (Mezzosopran)\, Patrick Grahl (Tenor)\, Franz-Josef Selig (Bass)\, Philharmonischer Chor München\, Münchner Philharmoniker\, Manfred Honeck (Leitung) \nProgramm: Beethoven: Sinfonie Nr. 1 C-Dur op. 21\, Mozart: Maurerische Trauermusik c-Moll KV 477\, Vesperae solennes de Confessore KV 339 (Auszug)\, Requiem d-Moll KV 626 & Ave verum corpus KV 618 \nhttps://www.concerti.de/termine/christina-landshamer-sopran-catriona-morison-mezzosopran-patrick-grahl-tenor-franz-josef-selig-bass-philharmonischer-chor-muenchen-muenchner-philharmoniker-manfred-honeck-leitung-isarp-889875/
LOCATION:Isarphilharmonie\, Hans-Preißinger-Straße 8\, 81379 München
END:VEVENT
END:VCALENDAR