BEGIN:VCALENDAR
VERSION:2.0
PRODID:concerti//https://www.concerti.de
CALSCALE:GREGORIAN
BEGIN:VTIMEZONE
TZID:Europe/Berlin
X-LIC-LOCATION:Europe/Berlin
BEGIN:DAYLIGHT
TZOFFSETFROM:+0100
TZOFFSETTO:+0200
TZNAME:CEST
DTSTART:19700329T020000
RRULE:FREQ=YEARLY;BYMONTH=3;BYDAY=-1SU
END:DAYLIGHT
BEGIN:STANDARD
TZOFFSETFROM:+0200
TZOFFSETTO:+0100
TZNAME:CET
DTSTART:19701025T030000
RRULE:FREQ=YEARLY;BYMONTH=10;BYDAY=-1SU
END:STANDARD
END:VTIMEZONE
BEGIN:VEVENT
UID:f634409110f86af7a63a165815d20ff0
SUMMARY:Silvesterkonzert
URL:https://www.concerti.de/termine/silvesterkonzert-isarphilharmonie-889861/
DTSTART;TZID=Europe/Berlin:20261231T170000
DTEND;TZID=Europe/Berlin:20261231T190000
DESCRIPTION:Interpreten: Axelle Fanyo (Sopran)\, Anna Lucia Richter (Alt)\, Léo Vermot-Desroches (Tenor)\, Stéphane Degout (Bassbariton)\, Philharmonischer Chor München\, Münchner Philharmoniker\, Maxime Pascal (Leitung) \nProgramm: Beethoven: Sinfonie Nr. 9 d-Moll op. 125 \nhttps://www.concerti.de/termine/silvesterkonzert-isarphilharmonie-889861/
LOCATION:Isarphilharmonie\, Hans-Preißinger-Straße 8\, 81379 München
END:VEVENT
END:VCALENDAR