BEGIN:VCALENDAR
VERSION:2.0
PRODID:concerti//https://www.concerti.de
CALSCALE:GREGORIAN
BEGIN:VTIMEZONE
TZID:Europe/Berlin
X-LIC-LOCATION:Europe/Berlin
BEGIN:DAYLIGHT
TZOFFSETFROM:+0100
TZOFFSETTO:+0200
TZNAME:CEST
DTSTART:19700329T020000
RRULE:FREQ=YEARLY;BYMONTH=3;BYDAY=-1SU
END:DAYLIGHT
BEGIN:STANDARD
TZOFFSETFROM:+0200
TZOFFSETTO:+0100
TZNAME:CET
DTSTART:19701025T030000
RRULE:FREQ=YEARLY;BYMONTH=10;BYDAY=-1SU
END:STANDARD
END:VTIMEZONE
BEGIN:VEVENT
UID:a236734080645712ef8a135ea9a72f96
SUMMARY:Renaud Capuçon (Violine), Münchner Philharmoniker, Lahav Shani (Leitung)
URL:https://www.concerti.de/termine/renaud-capucon-violine-muenchner-philharmoniker-lahav-shani-leitung-isarphilharmonie-889852/
DTSTART;TZID=Europe/Berlin:20261216T193000
DTEND;TZID=Europe/Berlin:20261216T213000
DESCRIPTION:Interpreten: Renaud Capuçon (Violine)\, Münchner Philharmoniker\, Lahav Shani (Leitung) \nProgramm: Glass: Violinkonzert Nr. 1\, Bruckner: Sinfonie Nr. 4 Es-Dur „Romantische“ \nhttps://www.concerti.de/termine/renaud-capucon-violine-muenchner-philharmoniker-lahav-shani-leitung-isarphilharmonie-889852/
LOCATION:Isarphilharmonie\, Hans-Preißinger-Straße 8\, 81379 München
END:VEVENT
END:VCALENDAR