BEGIN:VCALENDAR
VERSION:2.0
PRODID:concerti//https://www.concerti.de
CALSCALE:GREGORIAN
BEGIN:VTIMEZONE
TZID:Europe/Berlin
X-LIC-LOCATION:Europe/Berlin
BEGIN:DAYLIGHT
TZOFFSETFROM:+0100
TZOFFSETTO:+0200
TZNAME:CEST
DTSTART:19700329T020000
RRULE:FREQ=YEARLY;BYMONTH=3;BYDAY=-1SU
END:DAYLIGHT
BEGIN:STANDARD
TZOFFSETFROM:+0200
TZOFFSETTO:+0100
TZNAME:CET
DTSTART:19701025T030000
RRULE:FREQ=YEARLY;BYMONTH=10;BYDAY=-1SU
END:STANDARD
END:VTIMEZONE
BEGIN:VEVENT
UID:f6767e3d323788bae6d2818a6e39699f
SUMMARY:Matías Piñeira (Horn), Münchner Philharmoniker, James Gaffigan (Leitung)
URL:https://www.concerti.de/termine/matias-pineira-horn-muenchner-philharmoniker-james-gaffigan-leitung-isarphilharmonie-889839/
DTSTART;TZID=Europe/Berlin:20261205T190000
DTEND;TZID=Europe/Berlin:20261205T210000
DESCRIPTION:Interpreten: Matías Piñeira (Horn)\, Münchner Philharmoniker\, James Gaffigan (Leitung) \nProgramm: Korngold: Ouvertüre zu „The Sea Hawk“\, Williams: Hornkonzert\, Prokofjew: Romeo und Julia op. 64 (Auszüge) \nhttps://www.concerti.de/termine/matias-pineira-horn-muenchner-philharmoniker-james-gaffigan-leitung-isarphilharmonie-889839/
LOCATION:Isarphilharmonie\, Hans-Preißinger-Straße 8\, 81379 München
END:VEVENT
END:VCALENDAR