BEGIN:VCALENDAR
VERSION:2.0
PRODID:concerti//https://www.concerti.de
CALSCALE:GREGORIAN
BEGIN:VTIMEZONE
TZID:Europe/Berlin
X-LIC-LOCATION:Europe/Berlin
BEGIN:DAYLIGHT
TZOFFSETFROM:+0100
TZOFFSETTO:+0200
TZNAME:CEST
DTSTART:19700329T020000
RRULE:FREQ=YEARLY;BYMONTH=3;BYDAY=-1SU
END:DAYLIGHT
BEGIN:STANDARD
TZOFFSETFROM:+0200
TZOFFSETTO:+0100
TZNAME:CET
DTSTART:19701025T030000
RRULE:FREQ=YEARLY;BYMONTH=10;BYDAY=-1SU
END:STANDARD
END:VTIMEZONE
BEGIN:VEVENT
UID:c86827700290cc856d270e7d944bd7e7
SUMMARY:Bertrand Chamayou (Klavier), Münchner Philharmoniker, Barbara Hannigan (Leitung)
URL:https://www.concerti.de/termine/bertrand-chamayou-klavier-muenchner-philharmoniker-barbara-hannigan-leitung-isarphilharmonie-889829/
DTSTART;TZID=Europe/Berlin:20261029T193000
DTEND;TZID=Europe/Berlin:20261029T213000
DESCRIPTION:Interpreten: Bertrand Chamayou (Klavier)\, Münchner Philharmoniker\, Barbara Hannigan (Leitung) \nProgramm: Khayam: I am not a tale to be told\, Haydn: Sinfonie Nr. 39 g-Moll Hob. I:39\, Messiaen: Oiseaux exotiques\, Ravel: Klavierkonzert D-Dur\, Schreker: Der ferne Klang (Auszug) \nhttps://www.concerti.de/termine/bertrand-chamayou-klavier-muenchner-philharmoniker-barbara-hannigan-leitung-isarphilharmonie-889829/
LOCATION:Isarphilharmonie\, Hans-Preißinger-Straße 8\, 81379 München
END:VEVENT
END:VCALENDAR