BEGIN:VCALENDAR
VERSION:2.0
PRODID:concerti//https://www.concerti.de
CALSCALE:GREGORIAN
BEGIN:VTIMEZONE
TZID:Europe/Berlin
X-LIC-LOCATION:Europe/Berlin
BEGIN:DAYLIGHT
TZOFFSETFROM:+0100
TZOFFSETTO:+0200
TZNAME:CEST
DTSTART:19700329T020000
RRULE:FREQ=YEARLY;BYMONTH=3;BYDAY=-1SU
END:DAYLIGHT
BEGIN:STANDARD
TZOFFSETFROM:+0200
TZOFFSETTO:+0100
TZNAME:CET
DTSTART:19701025T030000
RRULE:FREQ=YEARLY;BYMONTH=10;BYDAY=-1SU
END:STANDARD
END:VTIMEZONE
BEGIN:VEVENT
UID:4f630e06b157973f484f3e6ccb43e6bc
SUMMARY:Nicolas Altstaedt (Violoncello), Münchner Philharmoniker, Anja Bihlmaier (Leitung), Malte Arkona (Moderation) - Jugendkonzert
URL:https://www.concerti.de/termine/nicolas-altstaedt-violoncello-muenchner-philharmoniker-anja-bihlmaier-leitung-malte-arkona-moderation-isarphilharmonie-889820/
DTSTART;TZID=Europe/Berlin:20261015T180000
DTEND;TZID=Europe/Berlin:20261015T200000
DESCRIPTION:Interpreten: Nicolas Altstaedt (Violoncello)\, Münchner Philharmoniker\, Anja Bihlmaier (Leitung)\, Malte Arkona (Moderation)\, Nicolas Altstaedt (Violoncello)\, Münchner Philharmoniker\, Anja Bihlmaier (Leitung) \nProgramm: Schostakowitsch: Cellokonzert Nr. 1 Es-Dur op. 107\, Zimmermann: Musique pour les soupers du Roi Ubu\, Ravel: La Valse \nhttps://www.concerti.de/termine/nicolas-altstaedt-violoncello-muenchner-philharmoniker-anja-bihlmaier-leitung-malte-arkona-moderation-isarphilharmonie-889820/
LOCATION:Isarphilharmonie\, Hans-Preißinger-Straße 8\, 81379 München
END:VEVENT
END:VCALENDAR