BEGIN:VCALENDAR
VERSION:2.0
PRODID:concerti//https://www.concerti.de
CALSCALE:GREGORIAN
BEGIN:VTIMEZONE
TZID:Europe/Berlin
X-LIC-LOCATION:Europe/Berlin
BEGIN:DAYLIGHT
TZOFFSETFROM:+0100
TZOFFSETTO:+0200
TZNAME:CEST
DTSTART:19700329T020000
RRULE:FREQ=YEARLY;BYMONTH=3;BYDAY=-1SU
END:DAYLIGHT
BEGIN:STANDARD
TZOFFSETFROM:+0200
TZOFFSETTO:+0100
TZNAME:CET
DTSTART:19701025T030000
RRULE:FREQ=YEARLY;BYMONTH=10;BYDAY=-1SU
END:STANDARD
END:VTIMEZONE
BEGIN:VEVENT
UID:8924d0e91d9151bd45672adfabe1a304
SUMMARY:Michael Martin Kofler (Flöte), Marie-Luise Modersohn (Oboe), Raffaele Giannotti (Fagott), Alexander Preuß (Kontrabass), Hansjörg Albrecht (Cembalo)
URL:https://www.concerti.de/termine/michael-martin-kofler-floete-marie-luise-modersohn-oboe-raffaele-giannotti-fagott-alexander-preuss-kontrabass-hansjoerg-albrecht-cembalo-muenchner-kuenstlerhaus-889817/
DTSTART;TZID=Europe/Berlin:20261011T110000
DTEND;TZID=Europe/Berlin:20261011T130000
DESCRIPTION:Interpreten: Michael Martin Kofler (Flöte)\, Marie-Luise Modersohn (Oboe)\, Raffaele Giannotti (Fagott)\, Alexander Preuß (Kontrabass)\, Hansjörg Albrecht (Cembalo) \nProgramm: J. S. Bach: Triosonaten Es-Dur BWV 525\, d-Moll BWV 527 & G-Dur BWV 1039\, Fasch: Triosonate g-Moll\, Vivaldi: Triosonate g-Moll\, Händel: Triosonate g-Moll\, Telemann: Triosonate c-Moll \nhttps://www.concerti.de/termine/michael-martin-kofler-floete-marie-luise-modersohn-oboe-raffaele-giannotti-fagott-alexander-preuss-kontrabass-hansjoerg-albrecht-cembalo-muenchner-kuenstlerhaus-889817/
LOCATION:Münchner Künstlerhaus\, Lenbachplatz 8\, 80333 München
END:VEVENT
END:VCALENDAR