BEGIN:VCALENDAR
VERSION:2.0
PRODID:concerti//https://www.concerti.de
CALSCALE:GREGORIAN
BEGIN:VTIMEZONE
TZID:Europe/Berlin
X-LIC-LOCATION:Europe/Berlin
BEGIN:DAYLIGHT
TZOFFSETFROM:+0100
TZOFFSETTO:+0200
TZNAME:CEST
DTSTART:19700329T020000
RRULE:FREQ=YEARLY;BYMONTH=3;BYDAY=-1SU
END:DAYLIGHT
BEGIN:STANDARD
TZOFFSETFROM:+0200
TZOFFSETTO:+0100
TZNAME:CET
DTSTART:19701025T030000
RRULE:FREQ=YEARLY;BYMONTH=10;BYDAY=-1SU
END:STANDARD
END:VTIMEZONE
BEGIN:VEVENT
UID:0206cf47eae566d18598c72ab3da0922
SUMMARY:Raffaele Giannotti (Fagott), Münchner Philharmoniker, Zubin Mehta (Leitung)
URL:https://www.concerti.de/termine/raffaele-giannotti-fagott-muenchner-philharmoniker-zubin-mehta-leitung-isarphilharmonie-889813/
DTSTART;TZID=Europe/Berlin:20261007T193000
DTEND;TZID=Europe/Berlin:20261007T213000
DESCRIPTION:Interpreten: Raffaele Giannotti (Fagott)\, Münchner Philharmoniker\, Zubin Mehta (Leitung) \nProgramm: Mozart: Ouvertüre zu „Così fan tutte“ & Sinfonie C-Dur KV 551 „Jupiter“\, Weber: Fagottkonzert F-Dur op. 75 \nhttps://www.concerti.de/termine/raffaele-giannotti-fagott-muenchner-philharmoniker-zubin-mehta-leitung-isarphilharmonie-889813/
LOCATION:Isarphilharmonie\, Hans-Preißinger-Straße 8\, 81379 München
END:VEVENT
END:VCALENDAR