BEGIN:VCALENDAR
VERSION:2.0
PRODID:concerti//https://www.concerti.de
CALSCALE:GREGORIAN
BEGIN:VTIMEZONE
TZID:Europe/Berlin
X-LIC-LOCATION:Europe/Berlin
BEGIN:DAYLIGHT
TZOFFSETFROM:+0100
TZOFFSETTO:+0200
TZNAME:CEST
DTSTART:19700329T020000
RRULE:FREQ=YEARLY;BYMONTH=3;BYDAY=-1SU
END:DAYLIGHT
BEGIN:STANDARD
TZOFFSETFROM:+0200
TZOFFSETTO:+0100
TZNAME:CET
DTSTART:19701025T030000
RRULE:FREQ=YEARLY;BYMONTH=10;BYDAY=-1SU
END:STANDARD
END:VTIMEZONE
BEGIN:VEVENT
UID:b5ff10b307b13d6c27037502ec8cf004
SUMMARY:Emanuel Ax (Klavier), Münchner Philharmoniker, Ryan Bancroft (Leitung)
URL:https://www.concerti.de/termine/emanuel-ax-klavier-muenchner-philharmoniker-ryan-bancroft-leitung-isarphilharmonie-889809/
DTSTART;TZID=Europe/Berlin:20260926T190000
DTEND;TZID=Europe/Berlin:20260926T210000
DESCRIPTION:Interpreten: Emanuel Ax (Klavier)\, Münchner Philharmoniker\, Ryan Bancroft (Leitung) \nProgramm: Mendelssohn: Ouvertüre zu „Ein Sommernachtstraum“ op. 21\, Mozart: Klavierkonzert Es-Dur KV 482\, Zemlinsky: Die Seejungfrau \nhttps://www.concerti.de/termine/emanuel-ax-klavier-muenchner-philharmoniker-ryan-bancroft-leitung-isarphilharmonie-889809/
LOCATION:Isarphilharmonie\, Hans-Preißinger-Straße 8\, 81379 München
END:VEVENT
END:VCALENDAR