BEGIN:VCALENDAR
VERSION:2.0
PRODID:concerti//https://www.concerti.de
CALSCALE:GREGORIAN
BEGIN:VTIMEZONE
TZID:Europe/Berlin
X-LIC-LOCATION:Europe/Berlin
BEGIN:DAYLIGHT
TZOFFSETFROM:+0100
TZOFFSETTO:+0200
TZNAME:CEST
DTSTART:19700329T020000
RRULE:FREQ=YEARLY;BYMONTH=3;BYDAY=-1SU
END:DAYLIGHT
BEGIN:STANDARD
TZOFFSETFROM:+0200
TZOFFSETTO:+0100
TZNAME:CET
DTSTART:19701025T030000
RRULE:FREQ=YEARLY;BYMONTH=10;BYDAY=-1SU
END:STANDARD
END:VTIMEZONE
BEGIN:VEVENT
UID:ab4d72c71c21fe92f80d89ae0428a876
SUMMARY:Odette Couch (Violine), Clément Courtin (Violine), Wolfgang Berg (Viola), Manuel von der Nahmer (Violoncello)
URL:https://www.concerti.de/termine/odette-couch-violine-clement-courtin-violine-wolfgang-berg-viola-manuel-von-der-nahmer-violoncello-889806/
DTSTART;TZID=Europe/Berlin:20260925T160000
DTEND;TZID=Europe/Berlin:20260925T180000
DESCRIPTION:Interpreten: Odette Couch (Violine)\, Clément Courtin (Violine)\, Wolfgang Berg (Viola)\, Manuel von der Nahmer (Violoncello) \nhttps://www.concerti.de/termine/odette-couch-violine-clement-courtin-violine-wolfgang-berg-viola-manuel-von-der-nahmer-violoncello-889806/
LOCATION:Haus Buchenried\, Berg
END:VEVENT
END:VCALENDAR