BEGIN:VCALENDAR
VERSION:2.0
PRODID:concerti//https://www.concerti.de
CALSCALE:GREGORIAN
BEGIN:VTIMEZONE
TZID:Europe/Berlin
X-LIC-LOCATION:Europe/Berlin
BEGIN:DAYLIGHT
TZOFFSETFROM:+0100
TZOFFSETTO:+0200
TZNAME:CEST
DTSTART:19700329T020000
RRULE:FREQ=YEARLY;BYMONTH=3;BYDAY=-1SU
END:DAYLIGHT
BEGIN:STANDARD
TZOFFSETFROM:+0200
TZOFFSETTO:+0100
TZNAME:CET
DTSTART:19701025T030000
RRULE:FREQ=YEARLY;BYMONTH=10;BYDAY=-1SU
END:STANDARD
END:VTIMEZONE
BEGIN:VEVENT
UID:46501ca195ebbe96f3447098334c5d7f
SUMMARY:Hasse: Piramo e Tisbe (konzertant)
URL:https://www.concerti.de/termine/hasse-piramo-e-tisbe-konzertant-theater-an-der-wien-889778/
DTSTART;TZID=Europe/Berlin:20270422T190000
DTEND;TZID=Europe/Berlin:20270422T210000
DESCRIPTION:Interpreten: Anett Fritsch (Piramo)\, Roberta Mameli (Tisbe)\, Jeremy Ovenden (Il Padre)\, Akademie für Alte Musik\, Bernhard Forck (Leitung) \nhttps://www.concerti.de/termine/hasse-piramo-e-tisbe-konzertant-theater-an-der-wien-889778/
LOCATION:Theater an der Wien\, Linke Wienzeile 6\, 1060 Wien
END:VEVENT
END:VCALENDAR