BEGIN:VCALENDAR
VERSION:2.0
PRODID:concerti//https://www.concerti.de
CALSCALE:GREGORIAN
BEGIN:VTIMEZONE
TZID:Europe/Berlin
X-LIC-LOCATION:Europe/Berlin
BEGIN:DAYLIGHT
TZOFFSETFROM:+0100
TZOFFSETTO:+0200
TZNAME:CEST
DTSTART:19700329T020000
RRULE:FREQ=YEARLY;BYMONTH=3;BYDAY=-1SU
END:DAYLIGHT
BEGIN:STANDARD
TZOFFSETFROM:+0200
TZOFFSETTO:+0100
TZNAME:CET
DTSTART:19701025T030000
RRULE:FREQ=YEARLY;BYMONTH=10;BYDAY=-1SU
END:STANDARD
END:VTIMEZONE
BEGIN:VEVENT
UID:2bec9eb8a237ddb0a7ab5490968c10e6
SUMMARY:Musica per liutu
URL:https://www.concerti.de/termine/musica-per-liutu-theater-an-der-wien-889773/
DTSTART;TZID=Europe/Berlin:20270417T200000
DTEND;TZID=Europe/Berlin:20270417T220000
DESCRIPTION:Interpreten: Proxima D\, David Bergmüller (Leitung) \nProgramm: Werke von Vivaldi \nhttps://www.concerti.de/termine/musica-per-liutu-theater-an-der-wien-889773/
LOCATION:Theater an der Wien\, Linke Wienzeile 6\, 1060 Wien
END:VEVENT
END:VCALENDAR