BEGIN:VCALENDAR
VERSION:2.0
PRODID:concerti//https://www.concerti.de
CALSCALE:GREGORIAN
BEGIN:VTIMEZONE
TZID:Europe/Berlin
X-LIC-LOCATION:Europe/Berlin
BEGIN:DAYLIGHT
TZOFFSETFROM:+0100
TZOFFSETTO:+0200
TZNAME:CEST
DTSTART:19700329T020000
RRULE:FREQ=YEARLY;BYMONTH=3;BYDAY=-1SU
END:DAYLIGHT
BEGIN:STANDARD
TZOFFSETFROM:+0200
TZOFFSETTO:+0100
TZNAME:CET
DTSTART:19701025T030000
RRULE:FREQ=YEARLY;BYMONTH=10;BYDAY=-1SU
END:STANDARD
END:VTIMEZONE
BEGIN:VEVENT
UID:bbf854325b543ef81c5a2fe6505a0e83
SUMMARY:Valtinoni: Der kleine Prinz - Familienoper
URL:https://www.concerti.de/termine/valtinoni-der-kleine-prinz-theater-an-der-wien-889700/
DTSTART;TZID=Europe/Berlin:20261228T190000
DTEND;TZID=Europe/Berlin:20261228T210000
DESCRIPTION:Interpreten: Emilie Renard (Der kleine Prinz)\, Wilhelm Schwinghammer (Pilot)\, Susan Zarrabi (Fuchs & Passant 1)\, Zoltan Nagy (Schlange\, Passant 2 & König)\, Katerina von Bennigsen (Mutter\, Die Eitle & Rose)\, Alexander Kaimbacher (Vater & Geschäftsmann)\, Gumpoldskirchner Spatzen\, Gábor Káli (Leitung)\, Louisa Muller (Regie) \nhttps://www.concerti.de/termine/valtinoni-der-kleine-prinz-theater-an-der-wien-889700/
LOCATION:Theater an der Wien\, Linke Wienzeile 6\, 1060 Wien
END:VEVENT
END:VCALENDAR