BEGIN:VCALENDAR
VERSION:2.0
PRODID:concerti//https://www.concerti.de
CALSCALE:GREGORIAN
BEGIN:VTIMEZONE
TZID:Europe/Berlin
X-LIC-LOCATION:Europe/Berlin
BEGIN:DAYLIGHT
TZOFFSETFROM:+0100
TZOFFSETTO:+0200
TZNAME:CEST
DTSTART:19700329T020000
RRULE:FREQ=YEARLY;BYMONTH=3;BYDAY=-1SU
END:DAYLIGHT
BEGIN:STANDARD
TZOFFSETFROM:+0200
TZOFFSETTO:+0100
TZNAME:CET
DTSTART:19701025T030000
RRULE:FREQ=YEARLY;BYMONTH=10;BYDAY=-1SU
END:STANDARD
END:VTIMEZONE
BEGIN:VEVENT
UID:c9091f42cec868c443d1f44d676a777c
SUMMARY:Mitglieder des Tiroler Landeskonservatoriums - Folk & Apéro
URL:https://www.concerti.de/termine/mitglieder-des-tiroler-landeskonservatoriums-haus-der-musik-innsbruck-889670/
DTSTART;TZID=Europe/Berlin:20261125T183000
DTEND;TZID=Europe/Berlin:20261125T203000
DESCRIPTION:Interpreten: Mitglieder des Tiroler Landeskonservatoriums \nhttps://www.concerti.de/termine/mitglieder-des-tiroler-landeskonservatoriums-haus-der-musik-innsbruck-889670/
LOCATION:Haus der Musik Innsbruck\, Universitätsstraße 1\, 6020 Innsbruck
END:VEVENT
END:VCALENDAR