BEGIN:VCALENDAR
VERSION:2.0
PRODID:concerti//https://www.concerti.de
CALSCALE:GREGORIAN
BEGIN:VTIMEZONE
TZID:Europe/Berlin
X-LIC-LOCATION:Europe/Berlin
BEGIN:DAYLIGHT
TZOFFSETFROM:+0100
TZOFFSETTO:+0200
TZNAME:CEST
DTSTART:19700329T020000
RRULE:FREQ=YEARLY;BYMONTH=3;BYDAY=-1SU
END:DAYLIGHT
BEGIN:STANDARD
TZOFFSETFROM:+0200
TZOFFSETTO:+0100
TZNAME:CET
DTSTART:19701025T030000
RRULE:FREQ=YEARLY;BYMONTH=10;BYDAY=-1SU
END:STANDARD
END:VTIMEZONE
BEGIN:VEVENT
UID:20d62e45b72c789dd0c4595ff6f9e4c4
SUMMARY:Mitglieder der Jazzabteilung des Tiroler Landeskonservatoriums - Jazz & Apéro
URL:https://www.concerti.de/termine/mitglieder-der-jazzabteilung-des-tiroler-landeskonservatoriums-haus-der-musik-innsbruck-889633/
DTSTART;TZID=Europe/Berlin:20261118T183000
DTEND;TZID=Europe/Berlin:20261118T203000
DESCRIPTION:Interpreten: Mitglieder der Jazzabteilung des Tiroler Landeskonservatoriums \nhttps://www.concerti.de/termine/mitglieder-der-jazzabteilung-des-tiroler-landeskonservatoriums-haus-der-musik-innsbruck-889633/
LOCATION:Haus der Musik Innsbruck\, Universitätsstraße 1\, 6020 Innsbruck
END:VEVENT
END:VCALENDAR