BEGIN:VCALENDAR
VERSION:2.0
PRODID:concerti//https://www.concerti.de
CALSCALE:GREGORIAN
BEGIN:VTIMEZONE
TZID:Europe/Berlin
X-LIC-LOCATION:Europe/Berlin
BEGIN:DAYLIGHT
TZOFFSETFROM:+0100
TZOFFSETTO:+0200
TZNAME:CEST
DTSTART:19700329T020000
RRULE:FREQ=YEARLY;BYMONTH=3;BYDAY=-1SU
END:DAYLIGHT
BEGIN:STANDARD
TZOFFSETFROM:+0200
TZOFFSETTO:+0100
TZNAME:CET
DTSTART:19701025T030000
RRULE:FREQ=YEARLY;BYMONTH=10;BYDAY=-1SU
END:STANDARD
END:VTIMEZONE
BEGIN:VEVENT
UID:ce0c91ad817b815d77970b93f530c233
SUMMARY:Zanda Švēde (Mezzosopran), Heiko Börner (Tenor), Tiroler Symphonieorchester Innsbruck, Gerrit Prießnitz (Leitung)
URL:https://www.concerti.de/termine/zanda-svede-mezzosopran-heiko-boerner-tenor-tiroler-symphonieorchester-innsbruck-gerrit-priessnitz-leitung-889654/
DTSTART;TZID=Europe/Berlin:20261112T193000
DTEND;TZID=Europe/Berlin:20261112T213000
DESCRIPTION:Interpreten: Zanda Švēde (Mezzosopran)\, Heiko Börner (Tenor)\, Tiroler Symphonieorchester Innsbruck\, Gerrit Prießnitz (Leitung) \nProgramm: Schönberg: Verklärte Nacht op. 4\, Mahler: Das Lied von der Erde \nhttps://www.concerti.de/termine/zanda-svede-mezzosopran-heiko-boerner-tenor-tiroler-symphonieorchester-innsbruck-gerrit-priessnitz-leitung-889654/
LOCATION:Congress\, Innsbruck
END:VEVENT
END:VCALENDAR