BEGIN:VCALENDAR
VERSION:2.0
PRODID:concerti//https://www.concerti.de
CALSCALE:GREGORIAN
BEGIN:VTIMEZONE
TZID:Europe/Berlin
X-LIC-LOCATION:Europe/Berlin
BEGIN:DAYLIGHT
TZOFFSETFROM:+0100
TZOFFSETTO:+0200
TZNAME:CEST
DTSTART:19700329T020000
RRULE:FREQ=YEARLY;BYMONTH=3;BYDAY=-1SU
END:DAYLIGHT
BEGIN:STANDARD
TZOFFSETFROM:+0200
TZOFFSETTO:+0100
TZNAME:CET
DTSTART:19701025T030000
RRULE:FREQ=YEARLY;BYMONTH=10;BYDAY=-1SU
END:STANDARD
END:VTIMEZONE
BEGIN:VEVENT
UID:fb885b677cb291ed7ce93e068ee6ae7a
SUMMARY:Hagar Sharvit (Mezzosopran), Trio Delyria - Serenadenkonzerte Niederösterreich
URL:https://www.concerti.de/termine/hagar-sharvit-mezzosopran-trio-delyria-889625/
DTSTART;TZID=Europe/Berlin:20261025T180000
DTEND;TZID=Europe/Berlin:20261025T200000
DESCRIPTION:Interpreten: Hagar Sharvit (Mezzosopran)\, Trio Delyria \nProgramm: Werke von Mendelssohn\, Mahler\, Korngold\, Mamlok u. a. \nhttps://www.concerti.de/termine/hagar-sharvit-mezzosopran-trio-delyria-889625/
LOCATION:Ehemalige Synagoge\, St. Pölten
END:VEVENT
END:VCALENDAR