BEGIN:VCALENDAR
VERSION:2.0
PRODID:concerti//https://www.concerti.de
CALSCALE:GREGORIAN
BEGIN:VTIMEZONE
TZID:Europe/Berlin
X-LIC-LOCATION:Europe/Berlin
BEGIN:DAYLIGHT
TZOFFSETFROM:+0100
TZOFFSETTO:+0200
TZNAME:CEST
DTSTART:19700329T020000
RRULE:FREQ=YEARLY;BYMONTH=3;BYDAY=-1SU
END:DAYLIGHT
BEGIN:STANDARD
TZOFFSETFROM:+0200
TZOFFSETTO:+0100
TZNAME:CET
DTSTART:19701025T030000
RRULE:FREQ=YEARLY;BYMONTH=10;BYDAY=-1SU
END:STANDARD
END:VTIMEZONE
BEGIN:VEVENT
UID:50a33771dda18297985b0008bc005022
SUMMARY:Rebecca Nelsen (Sopran), Junge Philharmonie Wien, Michael Lessky (Leitung) - Serenadenkonzerte Niederösterreich
URL:https://www.concerti.de/termine/rebecca-nelsen-sopran-junge-philharmonie-wien-michael-lessky-leitung-889563/
DTSTART;TZID=Europe/Berlin:20261011T180000
DTEND;TZID=Europe/Berlin:20261011T200000
DESCRIPTION:Interpreten: Rebecca Nelsen (Sopran)\, Junge Philharmonie Wien\, Michael Lessky (Leitung) \nProgramm: Werke von Wolf & Schubert\, Lesung aus Werken von Novalis & Schubert \nhttps://www.concerti.de/termine/rebecca-nelsen-sopran-junge-philharmonie-wien-michael-lessky-leitung-889563/
LOCATION:Festsaal Burg Perchtoldsdorf\, Perchtoldsdorf
END:VEVENT
END:VCALENDAR