BEGIN:VCALENDAR
VERSION:2.0
PRODID:concerti//https://www.concerti.de
CALSCALE:GREGORIAN
BEGIN:VTIMEZONE
TZID:Europe/Berlin
X-LIC-LOCATION:Europe/Berlin
BEGIN:DAYLIGHT
TZOFFSETFROM:+0100
TZOFFSETTO:+0200
TZNAME:CEST
DTSTART:19700329T020000
RRULE:FREQ=YEARLY;BYMONTH=3;BYDAY=-1SU
END:DAYLIGHT
BEGIN:STANDARD
TZOFFSETFROM:+0200
TZOFFSETTO:+0100
TZNAME:CET
DTSTART:19701025T030000
RRULE:FREQ=YEARLY;BYMONTH=10;BYDAY=-1SU
END:STANDARD
END:VTIMEZONE
BEGIN:VEVENT
UID:43767b4ef87446d5364831e3d85db217
SUMMARY:Corazón Abierto
URL:https://www.concerti.de/termine/corazon-abierto-theater-an-der-wien-889490/
DTSTART;TZID=Europe/Berlin:20260923T200000
DTEND;TZID=Europe/Berlin:20260923T220000
DESCRIPTION:Interpreten: Luciana Mancini (Gesang)\, Eszter Vörös (Bandoneon)\, Éva Gárdos\, Éva Gárdos (Klavier) \nhttps://www.concerti.de/termine/corazon-abierto-theater-an-der-wien-889490/
LOCATION:Theater an der Wien\, Linke Wienzeile 6\, 1060 Wien
END:VEVENT
END:VCALENDAR